BEGIN:VCALENDAR
VERSION:2.0
PRODID:-//Manny’s Munchies//Schedule//EN
CALSCALE:GREGORIAN
X-WR-CALNAME:Manny’s Munchies Schedule
X-WR-CALDESC:Where to find Manny’s Munchies this week
BEGIN:VEVENT
UID:recurring-2-2026-04-20@food-truck
DTSTAMP:20260420T063615Z
DTSTART:20260420T120000
DTEND:20260420T120000
SUMMARY:town
LOCATION:
DESCRIPTION:
END:VEVENT
BEGIN:VEVENT
UID:recurring-2-2026-04-27@food-truck
DTSTAMP:20260420T063615Z
DTSTART:20260427T120000
DTEND:20260427T120000
SUMMARY:town
LOCATION:
DESCRIPTION:
END:VEVENT
BEGIN:VEVENT
UID:recurring-2-2026-05-04@food-truck
DTSTAMP:20260420T063615Z
DTSTART:20260504T120000
DTEND:20260504T120000
SUMMARY:town
LOCATION:
DESCRIPTION:
END:VEVENT
BEGIN:VEVENT
UID:recurring-2-2026-05-11@food-truck
DTSTAMP:20260420T063615Z
DTSTART:20260511T120000
DTEND:20260511T120000
SUMMARY:town
LOCATION:
DESCRIPTION:
END:VEVENT
BEGIN:VEVENT
UID:recurring-2-2026-05-18@food-truck
DTSTAMP:20260420T063615Z
DTSTART:20260518T120000
DTEND:20260518T120000
SUMMARY:town
LOCATION:
DESCRIPTION:
END:VEVENT
BEGIN:VEVENT
UID:recurring-2-2026-05-25@food-truck
DTSTAMP:20260420T063615Z
DTSTART:20260525T120000
DTEND:20260525T120000
SUMMARY:town
LOCATION:
DESCRIPTION:
END:VEVENT
BEGIN:VEVENT
UID:recurring-2-2026-06-01@food-truck
DTSTAMP:20260420T063615Z
DTSTART:20260601T120000
DTEND:20260601T120000
SUMMARY:town
LOCATION:
DESCRIPTION:
END:VEVENT
BEGIN:VEVENT
UID:recurring-2-2026-06-08@food-truck
DTSTAMP:20260420T063615Z
DTSTART:20260608T120000
DTEND:20260608T120000
SUMMARY:town
LOCATION:
DESCRIPTION:
END:VEVENT
BEGIN:VEVENT
UID:recurring-1-2026-04-24@food-truck
DTSTAMP:20260420T063615Z
DTSTART:20260424T103000
DTEND:20260424T190800
SUMMARY:Buscheit
LOCATION:main street\, jefferson city mo 
DESCRIPTION:
END:VEVENT
BEGIN:VEVENT
UID:recurring-1-2026-05-01@food-truck
DTSTAMP:20260420T063615Z
DTSTART:20260501T103000
DTEND:20260501T190800
SUMMARY:Buscheit
LOCATION:main street\, jefferson city mo 
DESCRIPTION:
END:VEVENT
BEGIN:VEVENT
UID:recurring-1-2026-05-08@food-truck
DTSTAMP:20260420T063615Z
DTSTART:20260508T103000
DTEND:20260508T190800
SUMMARY:Buscheit
LOCATION:main street\, jefferson city mo 
DESCRIPTION:
END:VEVENT
BEGIN:VEVENT
UID:recurring-1-2026-05-15@food-truck
DTSTAMP:20260420T063615Z
DTSTART:20260515T103000
DTEND:20260515T190800
SUMMARY:Buscheit
LOCATION:main street\, jefferson city mo 
DESCRIPTION:
END:VEVENT
BEGIN:VEVENT
UID:recurring-1-2026-05-22@food-truck
DTSTAMP:20260420T063615Z
DTSTART:20260522T103000
DTEND:20260522T190800
SUMMARY:Buscheit
LOCATION:main street\, jefferson city mo 
DESCRIPTION:
END:VEVENT
BEGIN:VEVENT
UID:recurring-1-2026-05-29@food-truck
DTSTAMP:20260420T063615Z
DTSTART:20260529T103000
DTEND:20260529T190800
SUMMARY:Buscheit
LOCATION:main street\, jefferson city mo 
DESCRIPTION:
END:VEVENT
BEGIN:VEVENT
UID:recurring-1-2026-06-05@food-truck
DTSTAMP:20260420T063615Z
DTSTART:20260605T103000
DTEND:20260605T190800
SUMMARY:Buscheit
LOCATION:main street\, jefferson city mo 
DESCRIPTION:
END:VEVENT
BEGIN:VEVENT
UID:recurring-1-2026-06-12@food-truck
DTSTAMP:20260420T063615Z
DTSTART:20260612T103000
DTEND:20260612T190800
SUMMARY:Buscheit
LOCATION:main street\, jefferson city mo 
DESCRIPTION:
END:VEVENT
END:VCALENDAR
